BEGIN:VCALENDAR
VERSION:2.0
PRODID:-//Visually Impaired Blind Society - ECPv6.15.20//NONSGML v1.0//EN
CALSCALE:GREGORIAN
METHOD:PUBLISH
X-WR-CALNAME:Visually Impaired Blind Society
X-ORIGINAL-URL:https://vibsociety.org
X-WR-CALDESC:Events for Visually Impaired Blind Society
REFRESH-INTERVAL;VALUE=DURATION:PT1H
X-Robots-Tag:noindex
X-PUBLISHED-TTL:PT1H
BEGIN:VTIMEZONE
TZID:America/New_York
BEGIN:DAYLIGHT
TZOFFSETFROM:-0500
TZOFFSETTO:-0400
TZNAME:EDT
DTSTART:20250309T070000
END:DAYLIGHT
BEGIN:STANDARD
TZOFFSETFROM:-0400
TZOFFSETTO:-0500
TZNAME:EST
DTSTART:20251102T060000
END:STANDARD
BEGIN:DAYLIGHT
TZOFFSETFROM:-0500
TZOFFSETTO:-0400
TZNAME:EDT
DTSTART:20260308T070000
END:DAYLIGHT
BEGIN:STANDARD
TZOFFSETFROM:-0400
TZOFFSETTO:-0500
TZNAME:EST
DTSTART:20261101T060000
END:STANDARD
BEGIN:DAYLIGHT
TZOFFSETFROM:-0500
TZOFFSETTO:-0400
TZNAME:EDT
DTSTART:20270314T070000
END:DAYLIGHT
BEGIN:STANDARD
TZOFFSETFROM:-0400
TZOFFSETTO:-0500
TZNAME:EST
DTSTART:20271107T060000
END:STANDARD
BEGIN:DAYLIGHT
TZOFFSETFROM:-0500
TZOFFSETTO:-0400
TZNAME:EDT
DTSTART:20280312T070000
END:DAYLIGHT
BEGIN:STANDARD
TZOFFSETFROM:-0400
TZOFFSETTO:-0500
TZNAME:EST
DTSTART:20281105T060000
END:STANDARD
END:VTIMEZONE
BEGIN:VEVENT
DTSTART;TZID=America/New_York:20260912T173000
DTEND;TZID=America/New_York:20260912T220000
DTSTAMP:20260423T102141
CREATED:20260326T225145Z
LAST-MODIFIED:20260415T203415Z
UID:2058-1789234200-1789250400@vibsociety.org
SUMMARY:Celebrating A Decade Of Vision: VIBS 10th Anniversary Gala!
DESCRIPTION:Ten years of advocacy. Ten years of empowerment. Ten years of community. \nThe Visually Impaired and Blind Society (VIBS) cordially invites you to join us on Saturday\, September 12 for a historic milestone as we celebrate our 10th Anniversary Celebration. Since 2016\, we have worked tirelessly to bridge the gap and foster independence for the visually impaired community—and now\, it’s time to celebrate how far we’ve come together. \nJoin us for an evening of elegance\, inspiration\, and joy at the Best Western Atlanta Airport East. This isn’t just a dinner; it’s a tribute to a decade of resilience and a toast to our future. \nThe Evening’s Itinerary \n\n5:30 PM: Check-in\n6:00 PM: Bar Opens\n6:30 PM: Anniversary Dinner Served\n\nExperience the Magic \n\nFormal/Semi-Formal: Dress to impress for our milestone gala.\nGourmet Dining: Enjoy a delicious\, professionally catered meal.\nOpen Bar: Celebrate with your favorite spirits and refreshments.\nDance & Play: A live DJ will keep the energy high\, complemented by exciting prizes and giveaways throughout the night.\n\nStay for the Weekend \nMake it a full getaway! We have secured a block of rooms for our guests. Hotel booking information will be sent in your confirmation email after ticket purchase. \nWe hope to see you there and can’t wait to celebrate this milestone with you! \nGET TICKETS
URL:https://vibsociety.org/event/celebrating-a-decade-of-vision-vibs-10th-anniversary-gala/
LOCATION:Best Western Atlanta Airport\, Atlanta\, GA\, United States
ORGANIZER;CN="Visually Impaired Blind Society":MAILTO:info@vibsociety.org
END:VEVENT
BEGIN:VEVENT
DTSTART;VALUE=DATE:20271015
DTEND;VALUE=DATE:20271116
DTSTAMP:20260423T102141
CREATED:20260327T013510Z
LAST-MODIFIED:20260327T014140Z
UID:2068-1823558400-1826323199@vibsociety.org
SUMMARY:Cruise To The Bahamas 2027
DESCRIPTION:VIBS Cruise to the Bahamas 2027\nHosted by the Visually Impaired Blind Society \nVIBS is planning a 4-night cruise to the Bahamas for October or November 2027. \nWe are currently working with a travel agent to gather information and find the best options for our group on Royal Caribbean. While we don’t have final dates\, times\, or pricing yet\, we want to see who is interested in joining us! \n\nDuration: 4 Nights\nDestination: The Bahamas\nDetails: Collecting interest and information\n\nLet us know if you’re interested and we’ll get you added to our WhatsApp group.
URL:https://vibsociety.org/event/cruise-to-the-bahamas-2027/
ORGANIZER;CN="Visually Impaired Blind Society":MAILTO:info@vibsociety.org
END:VEVENT
END:VCALENDAR